BEGIN:VCALENDAR
VERSION:2.0
PRODID:icalendar-ruby
CALSCALE:GREGORIAN
METHOD:PUBLISH
BEGIN:VEVENT
DTSTAMP:20260419T161422Z
UID:12-1035752@zionnation.org
DTSTART:20260901T220000Z
DTEND:20260901T230000Z
CLASS:PUBLIC
CREATED:20260419T120036
DESCRIPTION:Zoom Meeting ID: 615 339 0324\nPasscode: BISHOPCRP
LAST-MODIFIED:20260419T120036
LOCATION:Zoom
SUMMARY:Bible Study
URL;VALUE=URI:https://www.zionnation.org/events/bible-study/2026-09-01
ATTACH;FILENAME=images.jpeg;FMTTYPE=image/jpeg:https://dq5pwpg1q8ru0.cloudf
 ront.net/2024/09/22/20/21/39/fc47871f-c2ea-4b53-b804-f90808e92f06/images.j
 peg
END:VEVENT
END:VCALENDAR
