BEGIN:VCALENDAR
VERSION:2.0
PRODID:icalendar-ruby
CALSCALE:GREGORIAN
METHOD:PUBLISH
BEGIN:VEVENT
DTSTAMP:20260420T023843Z
UID:10-1037413@zionnation.org
DTSTART:20261007T140000Z
DTEND:20261007T160000Z
CLASS:PUBLIC
CREATED:20260419T192543
DESCRIPTION:Requirements To Receive Food\nAll individuals are required to s
 ubmit:\ntheir name\, address\, the number of people in their household and
  proper identification\n \n \nAdministrative Staff &amp\; Contact Info\n
  \nCassandra Blount\, Food Pantry Coordinator\n(252) 560-2232 washingman@
 gmail.com\n \nDeborah Newsome\, Assistant Food Pantry Coordinator\n(252) 
 714-1395 dcnewsome208@gmail.com
LAST-MODIFIED:20260419T192543
LOCATION:
SUMMARY:Food Pantry Distribution
URL;VALUE=URI:https://www.zionnation.org/events/food-pantry-distribution/20
 26-10-07
ATTACH;FILENAME=IMG_4520.jpg;FMTTYPE=image/jpeg:https://dq5pwpg1q8ru0.cloud
 front.net/2023/05/05/09/40/07/0a39dacd-dcbd-4221-a5a7-2f9d7e130f92/IMG_452
 0.jpg
END:VEVENT
END:VCALENDAR
