BEGIN:VCALENDAR
VERSION:2.0
PRODID:icalendar-ruby
CALSCALE:GREGORIAN
METHOD:PUBLISH
BEGIN:VEVENT
DTSTAMP:20260420T062706Z
UID:14-1038614@zionnation.org
DTSTART:20260719T124500Z
DTEND:20260719T133000Z
CLASS:PUBLIC
CREATED:20260419T230418
DESCRIPTION:
LAST-MODIFIED:20260419T230418
LOCATION:377 Planters St Ayden NC
SUMMARY:Sunday school
URL;VALUE=URI:https://www.zionnation.org/events/sunday-school/2026-07-19
ATTACH;FILENAME=Sunday-School-1024x675-1.jpeg;FMTTYPE=image/jpeg:https://dq
 5pwpg1q8ru0.cloudfront.net/2024/09/22/20/29/14/2bccbfad-cb4e-4664-adf1-4a6
 da3d780e7/Sunday-School-1024x675-1.jpeg
END:VEVENT
END:VCALENDAR
