BEGIN:VCALENDAR
VERSION:2.0
PRODID:icalendar-ruby
CALSCALE:GREGORIAN
METHOD:PUBLISH
BEGIN:VEVENT
DTSTAMP:20260422T013146Z
UID:15-1050203@zionnation.org
DTSTART:20260705T124500Z
DTEND:20260705T133000Z
CLASS:PUBLIC
CREATED:20260421T204445
DESCRIPTION:
LAST-MODIFIED:20260421T204445
LOCATION:377 Planters St Ayden NC
SUMMARY:Youth Sunday school
URL;VALUE=URI:https://www.zionnation.org/events/youth-sunday-school/2026-07
 -05
ATTACH;FILENAME=youthss.jpeg;FMTTYPE=image/jpeg:https://dq5pwpg1q8ru0.cloud
 front.net/2024/09/22/20/31/28/71baa688-5dde-40ed-bb65-8cb227387aa1/youthss
 .jpeg
END:VEVENT
END:VCALENDAR
