BEGIN:VCALENDAR
VERSION:2.0
PRODID:icalendar-ruby
CALSCALE:GREGORIAN
METHOD:PUBLISH
BEGIN:VEVENT
DTSTAMP:20260422T231530Z
UID:15-1053755@zionnation.org
DTSTART:20260927T124500Z
DTEND:20260927T133000Z
CLASS:PUBLIC
CREATED:20260422T163323
DESCRIPTION:
LAST-MODIFIED:20260422T163323
LOCATION:377 Planters St Ayden NC
SUMMARY:Youth Sunday school
URL;VALUE=URI:https://www.zionnation.org/events/youth-sunday-school/2026-09
 -27
ATTACH;FILENAME=youthss.jpeg;FMTTYPE=image/jpeg:https://dq5pwpg1q8ru0.cloud
 front.net/2024/09/22/20/31/28/71baa688-5dde-40ed-bb65-8cb227387aa1/youthss
 .jpeg
END:VEVENT
END:VCALENDAR
